BEGIN:VCALENDAR
VERSION:2.0
PRODID:-//ChamberMaster//Event Calendar 2.0//EN
METHOD:PUBLISH
X-PUBLISHED-TTL:P1H
REFRESH-INTERVAL:P1H
CALSCALE:GREGORIAN
BEGIN:VTIMEZONE
TZID:America/New_York
BEGIN:DAYLIGHT
RRULE:FREQ=YEARLY;BYMONTH=3;BYDAY=2SU
DTSTART:20070101T000000
TZOFFSETFROM:-0500
TZOFFSETTO:-0400
TZNAME:Eastern Daylight Time
END:DAYLIGHT
BEGIN:STANDARD
RRULE:FREQ=YEARLY;BYMONTH=11;BYDAY=1SU
DTSTART:20070101T000000
TZOFFSETFROM:-0400
TZOFFSETTO:-0500
TZNAME:Eastern Standard Time
END:STANDARD
END:VTIMEZONE
BEGIN:VEVENT
DTSTART;TZID=America/New_York:20261107T100000
DTEND;TZID=America/New_York:20261108T160000
X-MICROSOFT-CDO-ALLDAYEVENT:FALSE
SUMMARY:DMV Chocolate and Coffee Festival - Maryland Edition
DESCRIPTION:Indulge your senses at the Maryland Edition of the DMV Chocolate and Coffee Festival! Held at the Adventist HealthCare Fieldhouse in Boyds\, this family-friendly event features 150+ vendors\, live demos\, and interactive seminars. Enjoy gourmet samples\, meet mascots Chunk and Bean\, and shop a curated selection of regional treats. It’s the perfect weekend for coffee lovers and chocolate enthusiasts alike.Learn more at: https://www.dmvchocolateandcoffee.com/
X-ALT-DESC;FMTTYPE=text/html:Indulge your senses at the Maryland Edition of the DMV Chocolate and Coffee Festival! Held at the Adventist HealthCare Fieldhouse in Boyds\, this family-friendly event features 150+ vendors\, live demos\, and interactive seminars. Enjoy gourmet samples\, meet mascots Chunk and Bean\, and shop a curated selection of regional treats. It’s the perfect weekend for coffee lovers and chocolate enthusiasts alike.Learn more at: https://www.dmvchocolateandcoffee.com/
LOCATION:18031 Central Park Cir Boyds MD 20841
UID:e.4504.1445270
SEQUENCE:3
DTSTAMP:20260421T094810Z
URL:https://members.finechocolateindustry.org/events/Details/dmv-chocolate-and-coffee-festival-maryland-edition-1711769?sourceTypeId=Hub
END:VEVENT
END:VCALENDAR
