BEGIN:VCALENDAR
VERSION:2.0
PRODID:-//ChamberMaster//Event Calendar 2.0//EN
METHOD:PUBLISH
X-PUBLISHED-TTL:P1H
REFRESH-INTERVAL:P1H
CALSCALE:GREGORIAN
BEGIN:VTIMEZONE
TZID:America/New_York
BEGIN:DAYLIGHT
RRULE:FREQ=YEARLY;BYMONTH=3;BYDAY=2SU
DTSTART:20070101T000000
TZOFFSETFROM:-0500
TZOFFSETTO:-0400
TZNAME:Eastern Daylight Time
END:DAYLIGHT
BEGIN:STANDARD
RRULE:FREQ=YEARLY;BYMONTH=11;BYDAY=1SU
DTSTART:20070101T000000
TZOFFSETFROM:-0400
TZOFFSETTO:-0500
TZNAME:Eastern Standard Time
END:STANDARD
END:VTIMEZONE
BEGIN:VEVENT
DTSTART;TZID=America/New_York:20261114T100000
DTEND;TZID=America/New_York:20261115T160000
X-MICROSOFT-CDO-ALLDAYEVENT:FALSE
SUMMARY:DMV Chocolate and Coffee Festival - Virginia Edition
DESCRIPTION:Experience the ultimate "treat yourself" weekend at the DMV Chocolate and Coffee Festival - Virginia Edition! Hosted at the Dulles Expo Center in Chantilly\, this premier event features over 200 top-tier roasters\, chocolatiers\, and gourmet artisans. Enjoy a vibrant atmosphere filled with delicious tastings\, live seminars\, and unique shopping opportunities. It is a family-friendly experience perfect for every coffee lover and chocolate enthusiast.\n\nFor tickets and more details\, visit: https://www.dmvchocolateandcoffee.com/
X-ALT-DESC;FMTTYPE=text/html:Experience the ultimate "treat yourself" weekend at the DMV Chocolate and Coffee Festival - Virginia Edition! Hosted at the Dulles Expo Center in Chantilly\, this premier event features over 200 top-tier roasters\, chocolatiers\, and gourmet artisans. Enjoy a vibrant atmosphere filled with delicious tastings\, live seminars\, and unique shopping opportunities. It is a family-friendly experience perfect for every coffee lover and chocolate enthusiast.\n\nFor tickets and more details\, visit: https://www.dmvchocolateandcoffee.com/
LOCATION:21100 Dulles Town Cir Sterling VA 20166
UID:e.4504.1445285
SEQUENCE:3
DTSTAMP:20260423T100003Z
URL:https://members.finechocolateindustry.org/events/Details/dmv-chocolate-and-coffee-festival-virginia-edition-1711782?sourceTypeId=Hub
END:VEVENT
END:VCALENDAR
