BEGIN:VCALENDAR
VERSION:2.0
PRODID:-//ChamberMaster//Event Calendar 2.0//EN
METHOD:PUBLISH
X-PUBLISHED-TTL:P1H
REFRESH-INTERVAL:P1H
CALSCALE:GREGORIAN
BEGIN:VTIMEZONE
TZID:America/New_York
BEGIN:DAYLIGHT
RRULE:FREQ=YEARLY;BYMONTH=3;BYDAY=2SU
DTSTART:20070101T000000
TZOFFSETFROM:-0500
TZOFFSETTO:-0400
TZNAME:Eastern Daylight Time
END:DAYLIGHT
BEGIN:STANDARD
RRULE:FREQ=YEARLY;BYMONTH=11;BYDAY=1SU
DTSTART:20070101T000000
TZOFFSETFROM:-0400
TZOFFSETTO:-0500
TZNAME:Eastern Standard Time
END:STANDARD
END:VTIMEZONE
BEGIN:VEVENT
DTSTART;TZID=America/New_York:20260428T130000
DTEND;TZID=America/New_York:20260428T140000
X-MICROSOFT-CDO-ALLDAYEVENT:FALSE
SUMMARY:FCIA Connect: Triumphs and Lessons from the Southwest Chocolate and Coffee Festival
DESCRIPTION:FCIA Connect: Where the Festival Conversations ContinueThe Southwest Chocolate and Coffee Festival was just the beginning of the conversation. Now it is time to gather the FCIA community and talk about what happened\, what we learned\, and what we are taking with us.Join us for the next FCIA Connect\, our members-only online networking session where fine chocolate professionals from around the world come together to connect\, share\, and enjoy a little chocolate talk with people who truly get it.FCIA Connect for Members Date: Monday\, April 28\, 2026 Time: 1:00 to 2:00 p.m. ET Location: Online via ZoomThis Month's Theme: Triumphs and Lessons from the\nSouthwest Chocolate and Coffee FestivalWhether you were on the festival floor as a vendor\, attended as a guest\, or followed along from the other side of the world\, this session is your chance to hear firsthand stories from those who were there\, share your own experiences\, and soak up the collective wisdom of the FCIA community.What worked? What surprised you? What would you do differently? What moment made you remember exactly why you love this industry? Bring all of it.FCIA Connect is one of the most energizing hours in a member's month\, and this edition promises to be especially rich coming off the heels of one of the finest chocolate weekends of the year. You do not want to miss the stories that come out of this one.Attendance is free for FCIA members. Register today to secure your Zoom link and save your spot in the conversation.Register Today!
X-ALT-DESC;FMTTYPE=text/html:<!DOCTYPE html><html><head><title></title></head><body aria-disabled="false"><p dir="ltr" style="line-height: 1.38\; margin-top: 12pt\; margin-bottom: 12pt\; text-align: center\;"><span style="font-size: 24px\; font-family: Arial\, sans-serif\; color: rgb(0\, 0\, 0)\; background-color: transparent\; font-weight: 700\; font-style: normal\; font-variant: normal\; text-decoration: none\; vertical-align: baseline\; white-space: pre-wrap\;">FCIA Connect: Where the Festival Conversations Continue</span></p><p dir="ltr" style="line-height:1.38\;margin-top:12pt\;margin-bottom:12pt\;"><span style="font-size:11pt\;font-family:Arial\,sans-serif\;color:#000000\;background-color:transparent\;font-weight:400\;font-style:normal\;font-variant:normal\;text-decoration:none\;vertical-align:baseline\;white-space:pre\;white-space:pre-wrap\;">The Southwest Chocolate and Coffee Festival was just the beginning of the conversation. Now it is time to gather the FCIA community and talk about what happened\, what we learned\, and what we are taking with us.</span></p><p dir="ltr" style="line-height:1.38\;margin-top:12pt\;margin-bottom:12pt\;"><span style="font-size:11pt\;font-family:Arial\,sans-serif\;color:#000000\;background-color:transparent\;font-weight:400\;font-style:normal\;font-variant:normal\;text-decoration:none\;vertical-align:baseline\;white-space:pre\;white-space:pre-wrap\;">Join us for the next FCIA Connect\, our members-only online networking session where fine chocolate professionals from around the world come together to connect\, share\, and enjoy a little chocolate talk with people who truly get it.</span></p><p dir="ltr" style="line-height: 1.38\; margin-top: 12pt\; margin-bottom: 12pt\;"><span style="font-size: 18px\; font-family: Arial\, sans-serif\; color: rgb(0\, 0\, 0)\; background-color: transparent\; font-weight: 700\; font-style: normal\; font-variant: normal\; text-decoration: none\; vertical-align: baseline\; white-space: pre-wrap\;">FCIA Connect for Members</span><span style="font-size: 18px\; font-family: Arial\, sans-serif\; color: rgb(0\, 0\, 0)\; background-color: transparent\; font-weight: 400\; font-style: normal\; font-variant: normal\; text-decoration: none\; vertical-align: baseline\; white-space: pre-wrap\;">&nbsp\;</span></p><ul fr-original-style="" style="list-style-position: inside\;"><li><span style="font-size:11pt\;font-family:Arial\,sans-serif\;color:#000000\;background-color:transparent\;font-weight:400\;font-style:normal\;font-variant:normal\;text-decoration:none\;vertical-align:baseline\;white-space:pre\;white-space:pre-wrap\;"><strong fr-original-style="" style="font-weight: 700\;">Date:&nbsp\;</strong>Monday\, April 28\, 2026&nbsp\;</span></li><li><span style="font-size:11pt\;font-family:Arial\,sans-serif\;color:#000000\;background-color:transparent\;font-weight:400\;font-style:normal\;font-variant:normal\;text-decoration:none\;vertical-align:baseline\;white-space:pre\;white-space:pre-wrap\;"><strong fr-original-style="" style="font-weight: 700\;">Time:&nbsp\;</strong>1:00 to 2:00 p.m. ET&nbsp\;</span></li><li><span style="font-size:11pt\;font-family:Arial\,sans-serif\;color:#000000\;background-color:transparent\;font-weight:400\;font-style:normal\;font-variant:normal\;text-decoration:none\;vertical-align:baseline\;white-space:pre\;white-space:pre-wrap\;"><strong fr-original-style="" style="font-weight: 700\;">Location:&nbsp\;</strong>Online via Zoom</span></li></ul><p dir="ltr" style="line-height: 1.38\; margin-top: 12pt\; margin-bottom: 12pt\; text-align: center\;"><span style="font-size: 18px\; font-family: Arial\, sans-serif\; color: rgb(0\, 0\, 0)\; background-color: transparent\; font-weight: 700\; font-style: normal\; font-variant: normal\; text-decoration: none\; vertical-align: baseline\; white-space: pre-wrap\;">This Month&#39\;s Theme: Triumphs and Lessons from the</span><br><span style="font-size: 18px\; font-family: Arial\, sans-serif\; color: rgb(0\, 0\, 0)\; background-color: transparent\; font-weight: 700\; font-style: normal\; font-variant: normal\; text-decoration: none\; vertical-align: baseline\; white-space: pre-wrap\;">Southwest Chocolate and Coffee Festival</span></p><p dir="ltr" style="line-height:1.38\;margin-top:12pt\;margin-bottom:12pt\;"><span style="font-size:11pt\;font-family:Arial\,sans-serif\;color:#000000\;background-color:transparent\;font-weight:400\;font-style:normal\;font-variant:normal\;text-decoration:none\;vertical-align:baseline\;white-space:pre\;white-space:pre-wrap\;">Whether you were on the festival floor as a vendor\, attended as a guest\, or followed along from the other side of the world\, this session is your chance to hear firsthand stories from those who were there\, share your own experiences\, and soak up the collective wisdom of the FCIA community.</span></p><p dir="ltr" style="line-height:1.38\;margin-top:12pt\;margin-bottom:12pt\;"><span style="font-size:11pt\;font-family:Arial\,sans-serif\;color:#000000\;background-color:transparent\;font-weight:400\;font-style:normal\;font-variant:normal\;text-decoration:none\;vertical-align:baseline\;white-space:pre\;white-space:pre-wrap\;">What worked? What surprised you? What would you do differently? What moment made you remember exactly why you love this industry? Bring all of it.</span></p><p dir="ltr" style="line-height:1.38\;margin-top:12pt\;margin-bottom:12pt\;"><span style="font-size:11pt\;font-family:Arial\,sans-serif\;color:#000000\;background-color:transparent\;font-weight:400\;font-style:normal\;font-variant:normal\;text-decoration:none\;vertical-align:baseline\;white-space:pre\;white-space:pre-wrap\;">FCIA Connect is one of the most energizing hours in a member&#39\;s month\, and this edition promises to be especially rich coming off the heels of one of the finest chocolate weekends of the year. You do not want to miss the stories that come out of this one.</span></p><p dir="ltr" style="line-height: 1.38\; margin-top: 12pt\; margin-bottom: 12pt\;"><span style="font-size:11pt\;font-family:Arial\,sans-serif\;color:#000000\;background-color:transparent\;font-weight:400\;font-style:normal\;font-variant:normal\;text-decoration:none\;vertical-align:baseline\;white-space:pre\;white-space:pre-wrap\;">Attendance is free for FCIA members. Register today to secure your Zoom link and save your spot in the conversation.</span></p><p dir="ltr" style="line-height: 1.38\; margin-top: 12pt\; margin-bottom: 12pt\; text-align: center\;"><span style="font-size: 24px\; font-family: Arial\, sans-serif\; color: rgb(0\, 0\, 0)\; background-color: transparent\; font-weight: 400\; font-style: normal\; font-variant: normal\; text-decoration: none\; vertical-align: baseline\; white-space: pre-wrap\;"><strong fr-original-style="" style="font-weight: 700\;">Register Today!</strong></span></p></body></html>
LOCATION:
UID:e.4504.1439228
SEQUENCE:3
DTSTAMP:20260421T094546Z
URL:https://members.finechocolateindustry.org/events/Details/fcia-connect-triumphs-and-lessons-from-the-southwest-chocolate-and-coffee-festival-1703595?sourceTypeId=Hub
END:VEVENT
END:VCALENDAR
