BEGIN:VCALENDAR
VERSION:2.0
PRODID:-//ChamberMaster//Event Calendar 2.0//EN
METHOD:PUBLISH
X-PUBLISHED-TTL:P1H
REFRESH-INTERVAL:P1H
CALSCALE:GREGORIAN
BEGIN:VTIMEZONE
TZID:America/New_York
BEGIN:DAYLIGHT
RRULE:FREQ=YEARLY;BYMONTH=3;BYDAY=2SU
DTSTART:20070101T000000
TZOFFSETFROM:-0500
TZOFFSETTO:-0400
TZNAME:Eastern Daylight Time
END:DAYLIGHT
BEGIN:STANDARD
RRULE:FREQ=YEARLY;BYMONTH=11;BYDAY=1SU
DTSTART:20070101T000000
TZOFFSETFROM:-0400
TZOFFSETTO:-0500
TZNAME:Eastern Standard Time
END:STANDARD
END:VTIMEZONE
BEGIN:VEVENT
DTSTART;TZID=America/New_York:20260422T200000
DTEND;TZID=America/New_York:20260422T210000
X-MICROSOFT-CDO-ALLDAYEVENT:FALSE
SUMMARY:FCIA Q&A Session for Non-Members
DESCRIPTION:Got Questions About FCIA? Come Ask Us Anything.Curious about the Fine Chocolate Industry Association but not sure if membership is right for you? This one is for you.FCIA is hosting a free\, informal Q&A session exclusively for non-members. No agenda\, no pitch\, no pressure. Just an open conversation where you can ask anything you want to know about FCIA\, what we do\, and what membership looks like in practice.Whether you have been on the fence for a while or you just discovered us\, this is your chance to get real answers directly from FCIA leadership.FCIA Q&A Session for Non-Members Date: Tuesday\, April 22\, 2026 Time: 8:00 to 9:00 p.m. ET Location: Online via ZoomYour Hosts Sander Wolf\, President\, Fine Chocolate Industry Association Nate Saal\, Vice President\, Fine Chocolate Industry AssociationNo question is too basic or too specific. Want to know what members actually get out of FCIA? Wondering if there is a tier that fits your business size or budget? Curious about our events\, resources\, or community? Bring it all.Attendance is free and open to all non-members. This is a rare opportunity to have a direct conversation with FCIA leadership\, so do not let it pass you by. Register today and come ready to ask everything you have been wondering about.Register Today!We look forward to meeting you.The Fine Chocolate Industry Association
X-ALT-DESC;FMTTYPE=text/html:<!DOCTYPE html><html><head><title></title></head><body aria-disabled="false"><p dir="ltr" style="line-height: 1.38\; margin-top: 12pt\; margin-bottom: 12pt\;"><span style="font-size: 18px\; font-family: Arial\, sans-serif\; color: rgb(0\, 0\, 0)\; background-color: transparent\; font-weight: 700\; font-style: normal\; font-variant: normal\; text-decoration: none\; vertical-align: baseline\; white-space: pre-wrap\;">Got Questions About FCIA? Come Ask Us Anything.</span></p><p dir="ltr" style="line-height: 1.38\; margin-top: 12pt\; margin-bottom: 12pt\;"><span style="font-size: 14px\; font-family: Arial\, sans-serif\; color: rgb(0\, 0\, 0)\; background-color: transparent\; font-weight: 400\; font-style: normal\; font-variant: normal\; text-decoration: none\; vertical-align: baseline\; white-space: pre-wrap\;">Curious about the Fine Chocolate Industry Association but not sure if membership is right for you? This one is for you.</span></p><p dir="ltr" style="line-height: 1.38\; margin-top: 12pt\; margin-bottom: 12pt\;"><span style="font-size: 14px\;"><span style="font-family: Arial\, sans-serif\; color: rgb(0\, 0\, 0)\; background-color: transparent\; font-weight: 400\; font-style: normal\; font-variant: normal\; text-decoration: none\; vertical-align: baseline\; white-space: pre-wrap\;">FCIA is hosting a free\, informal Q&amp\;A session exclusively for non-members. No agenda\, no pitch\, no pressure. Just an open conversation where you can ask anything you want to know about FCIA\, what we do\, and what membership looks like in practice.</span></span></p><p dir="ltr" style="line-height: 1.38\; margin-top: 12pt\; margin-bottom: 12pt\;"><span style="font-size: 14px\; font-family: Arial\, sans-serif\; color: rgb(0\, 0\, 0)\; background-color: transparent\; font-weight: 400\; font-style: normal\; font-variant: normal\; text-decoration: none\; vertical-align: baseline\; white-space: pre-wrap\;">Whether you have been on the fence for a while or you just discovered us\, this is your chance to get real answers directly from FCIA leadership.</span></p><p dir="ltr" style="line-height: 1.38\; margin-top: 12pt\; margin-bottom: 12pt\;"><span style="font-size: 18px\; font-family: Arial\, sans-serif\; color: rgb(0\, 0\, 0)\; background-color: transparent\; font-weight: 700\; font-style: normal\; font-variant: normal\; text-decoration: none\; vertical-align: baseline\; white-space: pre-wrap\;">FCIA Q&amp\;A Session for Non-Members</span><span style="font-size: 18px\; font-family: Arial\, sans-serif\; color: rgb(0\, 0\, 0)\; background-color: transparent\; font-weight: 400\; font-style: normal\; font-variant: normal\; text-decoration: none\; vertical-align: baseline\; white-space: pre-wrap\;">&nbsp\;</span></p><ul fr-original-style="" style="list-style-position: inside\;"><li style="font-size: 14px\;"><span style="font-family: Arial\, sans-serif\; color: rgb(0\, 0\, 0)\; background-color: transparent\; font-weight: 400\; font-style: normal\; font-variant: normal\; text-decoration: none\; vertical-align: baseline\; white-space: pre-wrap\;"><strong fr-original-style="" style="font-weight: 700\;">Date:&nbsp\;</strong>Tuesday\, April 22\, 2026&nbsp\;</span></li><li style="font-size: 14px\;"><span style="font-family: Arial\, sans-serif\; color: rgb(0\, 0\, 0)\; background-color: transparent\; font-weight: 400\; font-style: normal\; font-variant: normal\; text-decoration: none\; vertical-align: baseline\; white-space: pre-wrap\;"><strong fr-original-style="" style="font-weight: 700\;">Time:&nbsp\;</strong>8:00 to 9:00 p.m. ET&nbsp\;</span></li><li style="font-size: 14px\;"><span style="font-family: Arial\, sans-serif\; color: rgb(0\, 0\, 0)\; background-color: transparent\; font-weight: 400\; font-style: normal\; font-variant: normal\; text-decoration: none\; vertical-align: baseline\; white-space: pre-wrap\;"><strong fr-original-style="" style="font-weight: 700\;">Location:&nbsp\;</strong>Online via Zoom</span></li></ul><p dir="ltr" style="line-height: 1.38\; margin-top: 12pt\; margin-bottom: 12pt\;"><span style="font-size: 18px\; font-family: Arial\, sans-serif\; color: rgb(0\, 0\, 0)\; background-color: transparent\; font-weight: 700\; font-style: normal\; font-variant: normal\; text-decoration: none\; vertical-align: baseline\; white-space: pre-wrap\;">Your Hosts</span><span style="font-size: 18px\; font-family: Arial\, sans-serif\; color: rgb(0\, 0\, 0)\; background-color: transparent\; font-weight: 400\; font-style: normal\; font-variant: normal\; text-decoration: none\; vertical-align: baseline\; white-space: pre-wrap\;">&nbsp\;</span></p><ul fr-original-style="" style="list-style-position: inside\;"><li style="font-size: 14px\;"><span style="font-family: Arial\, sans-serif\; color: rgb(0\, 0\, 0)\; background-color: transparent\; font-weight: 400\; font-style: normal\; font-variant: normal\; text-decoration: none\; vertical-align: baseline\; white-space: pre-wrap\;">Sander Wolf\, President\, Fine Chocolate Industry Association&nbsp\;</span></li><li style="font-size: 14px\;"><span style="font-family: Arial\, sans-serif\; color: rgb(0\, 0\, 0)\; background-color: transparent\; font-weight: 400\; font-style: normal\; font-variant: normal\; text-decoration: none\; vertical-align: baseline\; white-space: pre-wrap\;">Nate Saal\, Vice President\, Fine Chocolate Industry Association</span></li></ul><p dir="ltr" style="line-height: 1.38\; margin-top: 12pt\; margin-bottom: 12pt\;"><span style="font-size: 14px\; font-family: Arial\, sans-serif\; color: rgb(0\, 0\, 0)\; background-color: transparent\; font-weight: 400\; font-style: normal\; font-variant: normal\; text-decoration: none\; vertical-align: baseline\; white-space: pre-wrap\;">No question is too basic or too specific. Want to know what members actually get out of FCIA? Wondering if there is a tier that fits your business size or budget? Curious about our events\, resources\, or community? Bring it all.</span></p><p dir="ltr" style="line-height: 1.38\; margin-top: 12pt\; margin-bottom: 12pt\;"><span style="font-size: 14px\; font-family: Arial\, sans-serif\; color: rgb(0\, 0\, 0)\; background-color: transparent\; font-weight: 400\; font-style: normal\; font-variant: normal\; text-decoration: none\; vertical-align: baseline\; white-space: pre-wrap\;">Attendance is free and open to all non-members. This is a rare opportunity to have a direct conversation with FCIA leadership\, so do not let it pass you by. Register today and come ready to ask everything you have been wondering about.</span></p><p dir="ltr" style="line-height: 1.38\; text-align: center\; margin-top: 12pt\; margin-bottom: 12pt\;"><span style="font-size: 24px\; font-family: Arial\, sans-serif\; color: rgb(0\, 0\, 0)\; background-color: transparent\; font-weight: 400\; font-style: normal\; font-variant: normal\; text-decoration: none\; vertical-align: baseline\; white-space: pre-wrap\;"><strong fr-original-style="" style="font-weight: 700\;">Register Today!</strong></span></p><p dir="ltr" style="line-height: 1.38\; margin-top: 12pt\; margin-bottom: 12pt\;"><span style="font-size: 14px\; font-family: Arial\, sans-serif\; color: rgb(0\, 0\, 0)\; background-color: transparent\; font-weight: 400\; font-style: normal\; font-variant: normal\; text-decoration: none\; vertical-align: baseline\; white-space: pre-wrap\;">We look forward to meeting you.</span></p><p dir="ltr" style="line-height: 1.38\; margin-top: 12pt\; margin-bottom: 12pt\;"><span style="font-size: 14px\; font-family: Arial\, sans-serif\; color: rgb(0\, 0\, 0)\; background-color: transparent\; font-weight: 400\; font-style: normal\; font-variant: normal\; text-decoration: none\; vertical-align: baseline\; white-space: pre-wrap\;">The Fine Chocolate Industry Association</span></p></body></html>
LOCATION:
UID:e.4504.1439121
SEQUENCE:3
DTSTAMP:20260421T094707Z
URL:https://members.finechocolateindustry.org/events/Details/fcia-q-a-session-for-non-members-1703339?sourceTypeId=Hub
END:VEVENT
END:VCALENDAR
