BEGIN:VCALENDAR
VERSION:2.0
PRODID:-//ChamberMaster//Event Calendar 2.0//EN
METHOD:PUBLISH
X-PUBLISHED-TTL:P1H
REFRESH-INTERVAL:P1H
CALSCALE:GREGORIAN
BEGIN:VTIMEZONE
TZID:America/New_York
BEGIN:DAYLIGHT
RRULE:FREQ=YEARLY;BYMONTH=3;BYDAY=2SU
DTSTART:20070101T000000
TZOFFSETFROM:-0500
TZOFFSETTO:-0400
TZNAME:Eastern Daylight Time
END:DAYLIGHT
BEGIN:STANDARD
RRULE:FREQ=YEARLY;BYMONTH=11;BYDAY=1SU
DTSTART:20070101T000000
TZOFFSETFROM:-0400
TZOFFSETTO:-0500
TZNAME:Eastern Standard Time
END:STANDARD
END:VTIMEZONE
BEGIN:VEVENT
DTSTART;TZID=America/New_York:20261121T100000
DTEND;TZID=America/New_York:20261122T160000
X-MICROSOFT-CDO-ALLDAYEVENT:FALSE
SUMMARY:Jacksonville Chocolate and Coffee Festival
DESCRIPTION:Indulge in the ultimate "treat yourself" weekend at the Jacksonville Chocolate and Coffee Festival! Held at the Prime F. Osborn III Convention Center\, this premier event brings together over 100 top roasters\, chocolatiers\, and local artisans. Sip specialty brews\, savor handcrafted sweets\, and meet festival mascots Chunk and Bean. With live demos and family-friendly activities\, it’s a must-attend for any enthusiast.\n\nFor tickets and more information\, visit: https://www.jaxchocolateandcoffee.com/
X-ALT-DESC;FMTTYPE=text/html:Indulge in the ultimate "treat yourself" weekend at the Jacksonville Chocolate and Coffee Festival! Held at the Prime F. Osborn III Convention Center\, this premier event brings together over 100 top roasters\, chocolatiers\, and local artisans. Sip specialty brews\, savor handcrafted sweets\, and meet festival mascots Chunk and Bean. With live demos and family-friendly activities\, it’s a must-attend for any enthusiast.\n\nFor tickets and more information\, visit: https://www.jaxchocolateandcoffee.com/
LOCATION:1000 Water St Jacksonville FL 32204
UID:e.4504.1445294
SEQUENCE:3
DTSTAMP:20260423T100304Z
URL:https://members.finechocolateindustry.org/events/Details/jacksonville-chocolate-and-coffee-festival-1711791?sourceTypeId=Hub
END:VEVENT
END:VCALENDAR
