BEGIN:VCALENDAR
VERSION:2.0
PRODID:-//ChamberMaster//Event Calendar 2.0//EN
METHOD:PUBLISH
X-PUBLISHED-TTL:P1H
REFRESH-INTERVAL:P1H
CALSCALE:GREGORIAN
BEGIN:VTIMEZONE
TZID:America/New_York
BEGIN:DAYLIGHT
RRULE:FREQ=YEARLY;BYMONTH=3;BYDAY=2SU
DTSTART:20070101T000000
TZOFFSETFROM:-0500
TZOFFSETTO:-0400
TZNAME:Eastern Daylight Time
END:DAYLIGHT
BEGIN:STANDARD
RRULE:FREQ=YEARLY;BYMONTH=11;BYDAY=1SU
DTSTART:20070101T000000
TZOFFSETFROM:-0400
TZOFFSETTO:-0500
TZNAME:Eastern Standard Time
END:STANDARD
END:VTIMEZONE
BEGIN:VEVENT
DTSTART;TZID=America/New_York:20261024T090000
DTEND;TZID=America/New_York:20261025T160000
X-MICROSOFT-CDO-ALLDAYEVENT:FALSE
SUMMARY:Pennsylvania Chocolate & Coffee Festival
DESCRIPTION:Indulge your senses at the Pennsylvania Chocolate and Coffee Festival! This family-friendly event brings together 150+ top roasters\, chocolatiers\, and artisans for a weekend of sipping\, sampling\, and shopping. Enjoy interactive seminars\, meet festival mascots Chunk and Bean\, and explore gourmet treats from across the region at the Greater Philadelphia Expo Center. It's the ultimate "treat yourself" experience.For tickets and event details\, visit: https://www.pachocolateandcoffee.com/
X-ALT-DESC;FMTTYPE=text/html:<!DOCTYPE html><html><head><title></title></head><body aria-disabled="false"><p data-path-to-node="0" style='font-family: "Google Sans Text"\, sans-serif !important\; line-height: 1.15 !important\; margin-top: 0px !important\;'>Indulge your senses at the Pennsylvania Chocolate and Coffee Festival!&nbsp\;</p><p data-path-to-node="0" style='font-family: "Google Sans Text"\, sans-serif !important\; line-height: 1.15 !important\; margin-top: 0px !important\;'><span style='font-family: "Google Sans Text"\, sans-serif !important\; line-height: 1.15 !important\; margin-top: 0px !important\;'>This family-friendly event brings together 150+ top roasters\, chocolatiers\, and artisans for a weekend of sipping\, sampling\, and shopping.</span> <span style='font-family: "Google Sans Text"\, sans-serif !important\; line-height: 1.15 !important\; margin-top: 0px !important\;'>Enjoy interactive seminars\, meet festival mascots Chunk and Bean\, and explore gourmet treats from across the region at the Greater Philadelphia Expo Center.</span> It&rsquo\;s the ultimate &quot\;treat yourself&quot\; experience.</p><p data-path-to-node="1" style='font-family: "Google Sans Text"\, sans-serif !important\; line-height: 1.15 !important\; margin-top: 0px !important\;'>For tickets and event details\, visit: <response-element style='font-family: "Google Sans Text"\, sans-serif !important\; line-height: 1.15 !important\; margin-top: 0px !important\;'><link-block style='font-family: "Google Sans Text"\, sans-serif !important\; line-height: 1.15 !important\; margin-top: 0px !important\;'><a fr-original-style='font-family: "Google Sans Text"\, sans-serif !important\; line-height: 1.15 !important\; margin-top: 0px !important\;' href="https://www.pachocolateandcoffee.com/" rel="noopener" style='font-family: "Google Sans Text"\, sans-serif !important\; line-height: 1.15 !important\; margin-top: 0px !important\; user-select: auto\;' target="_blank">https://www.pachocolateandcoffee.com/</a></link-block></response-element></p></body></html>
LOCATION:100 Station Ave Oaks\, PA 19456
UID:e.4504.1445241
SEQUENCE:3
DTSTAMP:20260421T100752Z
URL:https://members.finechocolateindustry.org/events/Details/pennsylvania-chocolate-coffee-festival-1711744?sourceTypeId=Hub
END:VEVENT
END:VCALENDAR
